BEGIN:VCALENDAR
VERSION:2.0
PRODID:-//Les amis du musée - ECPv6.2.8.1//NONSGML v1.0//EN
CALSCALE:GREGORIAN
METHOD:PUBLISH
X-WR-CALNAME:Les amis du musée
X-ORIGINAL-URL:https://www.sambac-caen.fr
X-WR-CALDESC:évènements pour Les amis du musée
REFRESH-INTERVAL;VALUE=DURATION:PT1H
X-Robots-Tag:noindex
X-PUBLISHED-TTL:PT1H
BEGIN:VTIMEZONE
TZID:Europe/Paris
BEGIN:DAYLIGHT
TZOFFSETFROM:+0100
TZOFFSETTO:+0200
TZNAME:CEST
DTSTART:20260329T010000
END:DAYLIGHT
BEGIN:STANDARD
TZOFFSETFROM:+0200
TZOFFSETTO:+0100
TZNAME:CET
DTSTART:20261025T010000
END:STANDARD
END:VTIMEZONE
BEGIN:VEVENT
DTSTART;TZID=Europe/Paris:20260521T080000
DTEND;TZID=Europe/Paris:20260521T170000
DTSTAMP:20260421T094233
CREATED:20250826T113147Z
LAST-MODIFIED:20250826T113147Z
UID:5660-1779350400-1779382800@www.sambac-caen.fr
SUMMARY:La dentelle en Normandie
DESCRIPTION:La dentelle en Normandie\nUn exemple d’art du textile\, reflet d’une région\nJournée d’étude présentée par Huguette Legros\, médiéviste. Professeure émérite université de Caen. \nLa dentelle suggère le raffinement\, le luxe\, la magnificence. \nLe récit de son développement en Normandie\, celui de ses techniques\, de ses artisanes\, de son commerce et de ses débouchés est un pan de l’histoire de cette province\, un patrimoine encore bien vivant. Depuis la fondation des manufactures royales par Colbert\, le nom de nombreuses villes est associé à cet art du textile. La dentelle d’Alençon et d’Argentan est inscrite sur la liste représentative du patrimoine culturel immatériel de l’humanité\, la Blonde de Caen\, la Chantilly de Bayeux et la polychrome de Courseulles sont autant de dentelles aux fuseaux qui ont fait connaître cette région dans le monde entier. \nUne journée d’étude sera\, cette saison\, consacrée à cet art autour de certains des axes suivants :\n• Les origines historiques de la dentelle de Normandie et son évolution.\n• Les savoir-faire : travail à l’aiguille (Alençon)\, au fuseau (Bayeux\, Caen\, Falaise).\n• L’organisation du travail.\n• Le rôle de la dentelle de Normandie dans la mode\, l’ameublement\, la décoration.\n• Les innovations modernes et les nouveaux défis.\n• La dentelle normande et les traditions locales : fêtes\, costumes\, etc.\n• La dentelle normande dans les arts : peinture\, sculpture\, littérature\, cinéma.
URL:https://www.sambac-caen.fr/evenement/la-dentelle-en-normandie/
LOCATION:Auditorium des archives du calvados\, 61\, rue de Lion-sur-mer\, Caen\, 14000\, France
CATEGORIES:Conférence
END:VEVENT
BEGIN:VEVENT
DTSTART;TZID=Europe/Paris:20260528T080000
DTEND;TZID=Europe/Paris:20260528T170000
DTSTAMP:20260421T094233
CREATED:20250826T113438Z
LAST-MODIFIED:20250826T113438Z
UID:5662-1779955200-1779987600@www.sambac-caen.fr
SUMMARY:Sortie au Musée Christian Dior et Abbaye de Cerisy-la-Forêt
DESCRIPTION:Musée Christian Dior et Abbaye de Cerisy-la-Forêt\nSitué dans la villa qui le vit grandir\, «Les Rhumbs»\, le musée Christian Dior a été créé en 1997 et nous invite dans l’intimité du grand créateur. \nDior transforme les habitudes vestimentaires des femmes et la collection du 12 février 1947 marquera le monde de la mode. La rédactrice du magazine Harper‘s Bazaar\, Carmel Snow déclare : «It‘s quite a revolution dear Christian. Your dresses have such a New Look !» L’expression sera reprise par tous les médias. \nDior veut faire oublier la période d’austérité de la guerre et propose un retour à l‘hyperféminité et à l‘art de plaire\, on parlera de «femme fleur» et de femme en huit\, en référence à la silhouette féminine et au chiffre porte bonheur du couturier. Il y présente le fameux tailleur Bar. Cette collection déclenche évidemment de nombreuses controverses. \nL’après-midi sera consacrée à la visite de l’abbaye de Cerisy-la-Forêt qui témoigne d’une étape majeure dans l’histoire de l’architecture normande. \nEn 1032\, Robert le Magnifique décide la construction d’une abbatiale sur un site de très ancienne implantation chrétienne. L’édifice actuel date des années 1080-1090 et\, même si des remaniements ont eu lieu aux XIIIe et XIVe siècles\, il reste un exemple remarquable de l’architecture romane en Normandie. Cette abbatiale se distingue par l’ampleur de ses proportions\, l’uniformité de la modénature et des sculptures et par la maîtrise des techniques. Elle est une des plus anciennes et des plus importantes de Normandie.
URL:https://www.sambac-caen.fr/evenement/sortie-au-musee-christian-dior-et-abbaye-de-cerisy-la-foret/
CATEGORIES:Sortie
END:VEVENT
BEGIN:VEVENT
DTSTART;TZID=Europe/Paris:20260611T080000
DTEND;TZID=Europe/Paris:20260611T170000
DTSTAMP:20260421T094233
CREATED:20250826T113630Z
LAST-MODIFIED:20250826T113630Z
UID:5664-1781164800-1781197200@www.sambac-caen.fr
SUMMARY:Sortie - Abbaye de Juaye-Mondaye
DESCRIPTION:Abbaye de Juaye-Mondaye\nTout près de Bayeux\, l’abbaye de Juaye Mondaye forme un bel ensemble classique du XVIIIe siècle\, au bord de l’Aure qui abrite toujours la communauté des chanoines de l’ordre des Prémontrés. \nFondée en 1202\, c’est au XVIIIe siècle que l’abbaye connaît sa période la plus florissante avec la reconstruction du monastère par le Père Eustache Restout (1655-1743)\, religieux prémontré\, qui fut aussi peintre et architecte issu d’une grande famille normande. Lors de la visite\, on peut admirer les bâtiments conventuels (cloître\, chapître\, réfectoire\, cellules) et l’église abbatiale\, tels qu’ils ont été achevés en 1745 et récemment restaurés . \nUne grande ferme et ses annexes font aussi partie de l’ensemble qui offre une architecture aux proportions particulièrement harmonieuses. Les bâtiments abbatiaux\, constitués d’un réfectoire\, d’une sacristie et d’une bibliothèque riche de 50 000 ouvrages sont ouverts à une visite guidée par un religieux.
URL:https://www.sambac-caen.fr/evenement/sortie-abbaye-de-juaye-mondaye/
CATEGORIES:Sortie
END:VEVENT
END:VCALENDAR